{"text_format":"1","workbook":"xlsx","n_sheets":12,"sheets":["Übersicht","Statistik 2020","Statistik 2021","Statistik 2022","Statistik 2023","Statistik 2024","Statistik 2025","Statistik 2026","Statistik 2027","Statistik 2028","Statistik 2029","Statistik 2030"],"not_rendered":{"charts":1,"images":0,"macros":1,"external_links":0,"defined_names":11,"comments":0,"pivot_tables":0},"unopened":[],"bounds":{"document_bytes":16777216,"sheet_cells":100000,"rows_first":2000,"rows_last":500,"rows_between":2000,"halvings":0,"cell_chars":16384,"cell_head_chars":4096},"cells_cut":0,"cells_raw":0,"read":"whole","date_system":"1900"}

{"sheet":"Übersicht","index":0,"n_rows":14,"n_cols":14,"rows_kept":14,"cut":false,"hidden":false,"merged":[[2,1,2,4],[0,0,0,13],[4,1,6,4]]}
["10 Jahres Statistik Fischerei an der Bolgenach"]
[]
[null,"Bitte hier deinen Namen eintragen:",null,null,null,null,"Jahr","Fischgänge","Fische","gr. Fisch","BF","RB","SO","Zeit am Wasser"]
[null,null,null,null,null,null,2020,{"$f":"'Statistik 2020'!$F$43","v":0},{"$f":"'Statistik 2020'!$F$44","v":0},{"$f":"'Statistik 2020'!$F$48","v":0},{"$f":"'Statistik 2020'!$F$45","v":0},{"$f":"'Statistik 2020'!$F$46","v":0},{"$f":"'Statistik 2020'!$F$47","v":0},{"$f":"'Statistik 2020'!$E$43","v":0}]
[null,"In der Übersicht deinen Namen eintragen!",null,null,null,null,2021,{"$f":"'Statistik 2021'!$F$43","v":0},{"$f":"'Statistik 2021'!$F$44","v":0},{"$f":"'Statistik 2021'!$F$48","v":0},{"$f":"'Statistik 2021'!$F$45","v":0},{"$f":"'Statistik 2021'!$F$46","v":0},{"$f":"'Statistik 2021'!$F$47","v":0},{"$f":"'Statistik 2021'!$E$43","v":0}]
[null,null,null,null,null,null,2022,{"$f":"'Statistik 2022'!$F$43","v":0},{"$f":"'Statistik 2022'!$F$44","v":0},{"$f":"'Statistik 2022'!$F$48","v":0},{"$f":"'Statistik 2022'!$F$45","v":0},{"$f":"'Statistik 2022'!$F$46","v":0},{"$f":"'Statistik 2022'!$F$47","v":0},{"$f":"'Statistik 2022'!$E$43","v":0}]
[null,null,null,null,null,null,2023,{"$f":"'Statistik 2023'!$F$43","v":0},{"$f":"'Statistik 2023'!$F$44","v":0},{"$f":"'Statistik 2023'!$F$48","v":0},{"$f":"'Statistik 2023'!$F$45","v":0},{"$f":"'Statistik 2023'!$F$46","v":0},{"$f":"'Statistik 2023'!$F$47","v":0},{"$f":"'Statistik 2023'!$E$43","v":0}]
[null,null,null,null,null,null,2024,{"$f":"'Statistik 2024'!$F$43","v":0},{"$f":"'Statistik 2024'!$F$44","v":0},{"$f":"'Statistik 2024'!$F$48","v":0},{"$f":"'Statistik 2024'!$F$45","v":0},{"$f":"'Statistik 2024'!$F$46","v":0},{"$f":"'Statistik 2024'!$F$47","v":0},{"$f":"'Statistik 2024'!$E$43","v":0}]
[null,null,null,null,null,null,2025,{"$f":"'Statistik 2025'!$F$43","v":0},{"$f":"'Statistik 2025'!$F$44","v":0},{"$f":"'Statistik 2025'!$F$48","v":0},{"$f":"'Statistik 2025'!$F$45","v":0},{"$f":"'Statistik 2025'!$F$46","v":0},{"$f":"'Statistik 2025'!$F$47","v":0},{"$f":"'Statistik 2025'!$E$43","v":0}]
[null,null,null,null,null,null,2026,{"$f":"'Statistik 2026'!$F$43","v":0},{"$f":"'Statistik 2026'!$F$44","v":0},{"$f":"'Statistik 2026'!$F$48","v":0},{"$f":"'Statistik 2026'!$F$45","v":0},{"$f":"'Statistik 2026'!$F$46","v":0},{"$f":"'Statistik 2026'!$F$47","v":0},{"$f":"'Statistik 2026'!$E$43","v":0}]
[null,null,null,null,null,null,2027,{"$f":"'Statistik 2027'!$F$43","v":0},{"$f":"'Statistik 2027'!$F$44","v":0},{"$f":"'Statistik 2027'!$F$48","v":0},{"$f":"'Statistik 2027'!$F$45","v":0},{"$f":"'Statistik 2027'!$F$46","v":0},{"$f":"'Statistik 2027'!$F$47","v":0},{"$f":"'Statistik 2027'!$E$43","v":0}]
[null,null,null,null,null,null,2028,{"$f":"'Statistik 2028'!$F$43","v":0},{"$f":"'Statistik 2028'!$F$44","v":0},{"$f":"'Statistik 2028'!$F$48","v":0},{"$f":"'Statistik 2028'!$F$45","v":0},{"$f":"'Statistik 2028'!$F$46","v":0},{"$f":"'Statistik 2028'!$F$47","v":0},{"$f":"'Statistik 2028'!$E$43","v":0}]
[null,null,null,null,null,null,2029,{"$f":"'Statistik 2029'!$F$43","v":0},{"$f":"'Statistik 2029'!$F$44","v":0},{"$f":"'Statistik 2029'!$F$48","v":0},{"$f":"'Statistik 2029'!$F$45","v":0},{"$f":"'Statistik 2029'!$F$46","v":0},{"$f":"'Statistik 2029'!$F$47","v":0},{"$f":"'Statistik 2029'!$E$43","v":0}]
[null,null,null,null,null,null,2030,{"$f":"'Statistik 2030'!$F$43","v":0},{"$f":"'Statistik 2030'!$F$44","v":0},{"$f":"'Statistik 2030'!$F$48","v":0},{"$f":"'Statistik 2030'!$F$45","v":0},{"$f":"'Statistik 2030'!$F$46","v":0},{"$f":"'Statistik 2030'!$F$47","v":0},{"$f":"'Statistik 2030'!$E$43","v":0}]

{"sheet":"Statistik 2020","index":1,"n_rows":48,"n_cols":23,"rows_kept":48,"cut":false,"hidden":false,"merged":[[0,0,0,19],[1,0,1,19],[2,5,2,7],[2,9,2,11],[2,13,2,15],[2,17,2,19],[2,2,2,4],[47,0,47,1],[42,0,42,1],[42,8,42,10],[43,0,43,1],[43,8,43,10],[44,0,44,1],[44,8,44,10],[45,0,45,1],[45,8,45,10],[46,0,46,1],[41,8,41,10],[47,13,47,16],[46,8,46,10],[42,5,42,6],[43,5,43,6],[44,5,44,6],[45,5,45,6],[46,5,46,6],[47,5,47,6],[43,13,43,16],[44,13,44,16],[45,13,45,16],[46,13,46,16],[42,13,42,16]]}
["Fangstatistik Bolgenach 2020"]
[{"$f":"Übersicht!$B$5","v":"In der Übersicht deinen Namen eintragen!"}]
[null,null,"Zeit (Format HH:MM)",null,null,"Entnahme 1",null,null,null,"Entnahme 2",null,null,null,"Entnahme 3",null,null,null,"Entnahme 4"]
["Nr.","Datum (TT.MM.JJ)","Beginn","Ende","Gesamt","Art","Rev.","cm",null,"Art","Rev.","cm",null,"Art","Rev.","cm",null,"Art","Rev.","cm",null,"Art","Beschreibung"]
[1,null,null,null,{"$f":"IF(C5<>\"\",D5-C5,\"\")","v":""},null,null,null,null,null,null,null,null,null,null,null,null,null,null,null,null,"KE","keine Entnahme"]
[{"$f":"A5+1","v":2},null,null,null,"",null,null,null,null,null,null,null,null,null,null,null,null,null,null,null,null,"KF","kein Fang"]
[3,null,null,null,"",null,null,null,null,null,null,null,null,null,null,null,null,null,null,null,null,"BF","Bachforelle"]
[4,null,null,null,"",null,null,null,null,null,null,null,null,null,null,null,null,null,null,null,null,"RB","Regenbogenforelle"]
[5,null,null,null,"",null,null,null,null,null,null,null,null,null,null,null,null,null,null,null,null,"SO","sonstige Fischarten"]
[6,null,null,null,""]
[7,null,null,null,""]
[8,null,null,null,""]
[9,null,null,null,""]
[10,null,null,null,""]
[11,null,null,null,{"$f":"IF(C15<>\"\",D15-C15,\"\")","v":""}]
[12,null,null,null,""]
[13,null,null,null,""]
[14,null,null,null,""]
[15,null,null,null,""]
[16,null,null,null,""]
[17,null,null,null,""]
[18,null,null,null,""]
[19,null,null,null,""]
[20,null,null,null,""]
[21,null,null,null,""]
[22,null,null,null,""]
[23,null,null,null,""]
[24,null,null,null,""]
[25,null,null,null,""]
[26,null,null,null,""]
[27,null,null,null,""]
[28,null,null,null,""]
[29,null,null,null,""]
[30,null,null,null,""]
[31,null,null,null,""]
[32,null,null,null,""]
[33,null,null,null,""]
[34,null,null,null,""]
[35,null,null,null,""]
[]
["Auswertung",null,null,null,null,{"$f":"A1","v":"Fangstatistik Bolgenach 2020"}]
[null,null,null,null,"Zeit am Wasser",null,null,null,"Kosten"]
["Fischgänge:",null,null,null,{"$f":"SUM(E5:E39)","v":0},{"$f":"COUNT(B5:B39)","v":0},null,{"$f":"IF(F43<>0,200/F43,\"\")","v":""},"pro Fischgang",null,null,null,"Art","Beschreibung"]
["entn. Fische:",null,null,null,null,{"$f":"COUNT(H5:H39,L5:L39,P5:P39,T5:T39)","v":0},null,"Ø cm",{"$f":"IF(F44<>0,SUM(H5:H39,L5:L39,P5:P39,T5:T39)/F44,\"\")","v":""},null,null,null,"KE","keine Entnahme"]
["Anz. BF:",null,null,null,null,{"$f":"COUNTIF(F5:F39,\"BF\")+COUNTIF(J5:J39,\"BF\")+COUNTIF(N5:N39,\"BF\")+COUNTIF(R5:R39,\"BF\")","v":0},null,"Ø cm",{"$f":"IF(F45<>0,(SUMIF(F5:F39,\"BF\",H5:H39)+SUMIF(J5:J39,\"BF\",L5:L39)+SUMIF(N5:N39,\"BF\",P5:P39)+SUMIF(R5:R39,\"BF\",T5:T39))/F45,\"\")","v":""},null,null,null,"KF","kein Fang"]
["Anz. RB:",null,null,null,null,{"$f":"COUNTIF(F5:F39,\"RB\")+COUNTIF(J5:J39,\"RB\")+COUNTIF(N5:N39,\"RB\")+COUNTIF(R5:R39,\"RB\")","v":0},null,"Ø cm",{"$f":"IF(F46<>0,(SUMIF(F5:F39,\"RB\",H5:H39)+SUMIF(J5:J39,\"RB\",L5:L39)+SUMIF(N5:N39,\"RB\",P5:P39)+SUMIF(R5:R39,\"RB\",T5:T39))/F46,\"\")","v":""},{"$f":"IF((SUMIF(F5:F39,\"RB\",H5:H39)+SUMIF(J5:J39,\"RB\",L5:L39)+SUMIF(N5:N39,\"RB\",P5:P39)+SUMIF(R5:R39,\"RB\",T5:T39))=0,\"\",(SUMIF(F5:F39,\"RB\",H5:H39)+SUMIF(J5:J39,\"RB\",L5:L39)+SUMIF(N5:N39,\"RB\",P5:P39)+SUMIF(R5:R39,\"RB\",T5:T39))/F46)","v":""},null,null,"BF","Bachforelle"]
["Anz. SO:",null,null,null,null,{"$f":"COUNTIF(F5:F39,\"SO\")+COUNTIF(J5:J39,\"SO\")+COUNTIF(N5:N39,\"SO\")+COUNTIF(R5:R39,\"SO\")","v":0},null,"Ø cm",{"$f":"IF(F47<>0,(SUMIF(F5:F39,\"SO\",H5:H39)+SUMIF(J5:J39,\"SO\",L5:L39)+SUMIF(N5:N39,\"SO\",P5:P39)+SUMIF(R5:R39,\"SO\",T5:T39))/F47,\"\")","v":""},{"$f":"IF((SUMIF(F6:F40,\"RB\",H6:H40)+SUMIF(J6:J40,\"RB\",L6:L40)+SUMIF(N6:N40,\"RB\",P6:P40)+SUMIF(R6:R40,\"RB\",T6:T40))=0,\"\",(SUMIF(F6:F40,\"RB\",H6:H40)+SUMIF(J6:J40,\"RB\",L6:L40)+SUMIF(N6:N40,\"RB\",P6:P40)+SUMIF(R6:R40,\"RB\",T6:T40))/F47)","v":""},null,null,"RB","Regenbogenforelle"]
["größter Fisch:",null,null,null,null,{"$f":"MAX(H5:H39,L5:L39,P4:P39,T5:T39)","v":0},null,null,null,null,null,null,"SO","sonstige Fischarten"]

{"sheet":"Statistik 2021","index":2,"n_rows":48,"n_cols":23,"rows_kept":48,"cut":false,"hidden":false,"merged":[[47,0,47,1],[42,0,42,1],[42,8,42,10],[43,0,43,1],[43,8,43,10],[44,0,44,1],[44,8,44,10],[45,0,45,1],[45,8,45,10],[46,0,46,1],[0,0,0,19],[1,0,1,19],[2,5,2,7],[2,9,2,11],[2,13,2,15],[2,17,2,19],[2,2,2,4],[41,8,41,10],[47,13,47,16],[46,8,46,10],[42,5,42,6],[43,5,43,6],[44,5,44,6],[45,5,45,6],[46,5,46,6],[47,5,47,6],[42,13,42,16],[43,13,43,16],[44,13,44,16],[45,13,45,16],[46,13,46,16]]}
["Fangstatistik Bolgenach 2021"]
[{"$f":"Übersicht!$B$5","v":"In der Übersicht deinen Namen eintragen!"}]
[null,null,"Zeit (Format HH:MM)",null,null,"Entnahme 1",null,null,null,"Entnahme 2",null,null,null,"Entnahme 3",null,null,null,"Entnahme 4"]
["Nr.","Datum (TT.MM.JJ)","Beginn","Ende","Gesamt","Art","Rev.","cm",null,"Art","Rev.","cm",null,"Art","Rev.","cm",null,"Art","Rev.","cm",null,"Art","Beschreibung"]
[1,null,null,null,{"$f":"IF(C5<>\"\",D5-C5,\"\")","v":""},null,null,null,null,null,null,null,null,null,null,null,null,null,null,null,null,"KE","keine Entnahme"]
[{"$f":"A5+1","v":2},null,null,null,"",null,null,null,null,null,null,null,null,null,null,null,null,null,null,null,null,"KF","kein Fang"]
[3,null,null,null,"",null,null,null,null,null,null,null,null,null,null,null,null,null,null,null,null,"BF","Bachforelle"]
[4,null,null,null,"",null,null,null,null,null,null,null,null,null,null,null,null,null,null,null,null,"RB","Regenbogenforelle"]
[5,null,null,null,"",null,null,null,null,null,null,null,null,null,null,null,null,null,null,null,null,"SO","sonstige Fischarten"]
[6,null,null,null,""]
[7,null,null,null,""]
[8,null,null,null,""]
[9,null,null,null,""]
[10,null,null,null,""]
[11,null,null,null,{"$f":"IF(C15<>\"\",D15-C15,\"\")","v":""}]
[12,null,null,null,""]
[13,null,null,null,""]
[14,null,null,null,""]
[15,null,null,null,""]
[16,null,null,null,""]
[17,null,null,null,""]
[18,null,null,null,""]
[19,null,null,null,""]
[20,null,null,null,""]
[21,null,null,null,""]
[22,null,null,null,""]
[23,null,null,null,""]
[24,null,null,null,""]
[25,null,null,null,""]
[26,null,null,null,""]
[27,null,null,null,""]
[28,null,null,null,""]
[29,null,null,null,""]
[30,null,null,null,""]
[31,null,null,null,""]
[32,null,null,null,""]
[33,null,null,null,""]
[34,null,null,null,""]
[35,null,null,null,""]
[]
["Auswertung",null,null,null,null,{"$f":"A1","v":"Fangstatistik Bolgenach 2021"}]
[null,null,null,null,"Zeit am Wasser",null,null,null,"Kosten"]
["Fischgänge:",null,null,null,{"$f":"SUM(E5:E39)","v":0},{"$f":"COUNT(B5:B39)","v":0},null,{"$f":"IF(F43<>0,200/F43,\"\")","v":""},"pro Fischgang",null,null,null,"Art","Beschreibung"]
["entn. Fische:",null,null,null,null,{"$f":"COUNT(H5:H39,L5:L39,P5:P39,T5:T39)","v":0},null,"Ø cm",{"$f":"IF(F44<>0,SUM(H5:H39,L5:L39,P5:P39,T5:T39)/F44,\"\")","v":""},null,null,null,"KE","keine Entnahme"]
["Anz. BF:",null,null,null,null,{"$f":"COUNTIF(F5:F39,\"BF\")+COUNTIF(J5:J39,\"BF\")+COUNTIF(N5:N39,\"BF\")+COUNTIF(R5:R39,\"BF\")","v":0},null,"Ø cm",{"$f":"IF(F45<>0,(SUMIF(F5:F39,\"BF\",H5:H39)+SUMIF(J5:J39,\"BF\",L5:L39)+SUMIF(N5:N39,\"BF\",P5:P39)+SUMIF(R5:R39,\"BF\",T5:T39))/F45,\"\")","v":""},null,null,null,"KF","kein Fang"]
["Anz. RB:",null,null,null,null,{"$f":"COUNTIF(F5:F39,\"RB\")+COUNTIF(J5:J39,\"RB\")+COUNTIF(N5:N39,\"RB\")+COUNTIF(R5:R39,\"RB\")","v":0},null,"Ø cm",{"$f":"IF(F46<>0,(SUMIF(F5:F39,\"RB\",H5:H39)+SUMIF(J5:J39,\"RB\",L5:L39)+SUMIF(N5:N39,\"RB\",P5:P39)+SUMIF(R5:R39,\"RB\",T5:T39))/F46,\"\")","v":""},{"$f":"IF((SUMIF(F5:F39,\"RB\",H5:H39)+SUMIF(J5:J39,\"RB\",L5:L39)+SUMIF(N5:N39,\"RB\",P5:P39)+SUMIF(R5:R39,\"RB\",T5:T39))=0,\"\",(SUMIF(F5:F39,\"RB\",H5:H39)+SUMIF(J5:J39,\"RB\",L5:L39)+SUMIF(N5:N39,\"RB\",P5:P39)+SUMIF(R5:R39,\"RB\",T5:T39))/F46)","v":""},null,null,"BF","Bachforelle"]
["Anz. SO:",null,null,null,null,{"$f":"COUNTIF(F5:F39,\"SO\")+COUNTIF(J5:J39,\"SO\")+COUNTIF(N5:N39,\"SO\")+COUNTIF(R5:R39,\"SO\")","v":0},null,"Ø cm",{"$f":"IF(F47<>0,(SUMIF(F5:F39,\"SO\",H5:H39)+SUMIF(J5:J39,\"SO\",L5:L39)+SUMIF(N5:N39,\"SO\",P5:P39)+SUMIF(R5:R39,\"SO\",T5:T39))/F47,\"\")","v":""},{"$f":"IF((SUMIF(F6:F40,\"RB\",H6:H40)+SUMIF(J6:J40,\"RB\",L6:L40)+SUMIF(N6:N40,\"RB\",P6:P40)+SUMIF(R6:R40,\"RB\",T6:T40))=0,\"\",(SUMIF(F6:F40,\"RB\",H6:H40)+SUMIF(J6:J40,\"RB\",L6:L40)+SUMIF(N6:N40,\"RB\",P6:P40)+SUMIF(R6:R40,\"RB\",T6:T40))/F47)","v":""},null,null,"RB","Regenbogenforelle"]
["größter Fisch:",null,null,null,null,{"$f":"MAX(H5:H39,L5:L39,P4:P39,T5:T39)","v":0},null,null,null,null,null,null,"SO","sonstige Fischarten"]

{"sheet":"Statistik 2022","index":3,"n_rows":48,"n_cols":23,"rows_kept":48,"cut":false,"hidden":false,"merged":[[0,0,0,19],[1,0,1,19],[2,5,2,7],[2,9,2,11],[2,13,2,15],[2,17,2,19],[2,2,2,4],[45,0,45,1],[45,8,45,10],[46,0,46,1],[47,0,47,1],[42,0,42,1],[42,8,42,10],[43,0,43,1],[43,8,43,10],[44,0,44,1],[44,8,44,10],[41,8,41,10],[47,13,47,16],[46,8,46,10],[42,5,42,6],[43,5,43,6],[44,5,44,6],[45,5,45,6],[46,5,46,6],[47,5,47,6],[42,13,42,16],[43,13,43,16],[44,13,44,16],[45,13,45,16],[46,13,46,16]]}
["Fangstatistik Bolgenach 2022"]
[{"$f":"Übersicht!$B$5","v":"In der Übersicht deinen Namen eintragen!"}]
[null,null,"Zeit (Format HH:MM)",null,null,"Entnahme 1",null,null,null,"Entnahme 2",null,null,null,"Entnahme 3",null,null,null,"Entnahme 4"]
["Nr.","Datum (TT.MM.JJ)","Beginn","Ende","Gesamt","Art","Rev.","cm",null,"Art","Rev.","cm",null,"Art","Rev.","cm",null,"Art","Rev.","cm",null,"Art","Beschreibung"]
[1,null,null,null,{"$f":"IF(C5<>\"\",D5-C5,\"\")","v":""},null,null,null,null,null,null,null,null,null,null,null,null,null,null,null,null,"KE","keine Entnahme"]
[{"$f":"A5+1","v":2},null,null,null,"",null,null,null,null,null,null,null,null,null,null,null,null,null,null,null,null,"KF","kein Fang"]
[3,null,null,null,"",null,null,null,null,null,null,null,null,null,null,null,null,null,null,null,null,"BF","Bachforelle"]
[4,null,null,null,"",null,null,null,null,null,null,null,null,null,null,null,null,null,null,null,null,"RB","Regenbogenforelle"]
[5,null,null,null,"",null,null,null,null,null,null,null,null,null,null,null,null,null,null,null,null,"SO","sonstige Fischarten"]
[6,null,null,null,""]
[7,null,null,null,""]
[8,null,null,null,""]
[9,null,null,null,""]
[10,null,null,null,""]
[11,null,null,null,{"$f":"IF(C15<>\"\",D15-C15,\"\")","v":""}]
[12,null,null,null,""]
[13,null,null,null,""]
[14,null,null,null,""]
[15,null,null,null,""]
[16,null,null,null,""]
[17,null,null,null,""]
[18,null,null,null,""]
[19,null,null,null,""]
[20,null,null,null,""]
[21,null,null,null,""]
[22,null,null,null,""]
[23,null,null,null,""]
[24,null,null,null,""]
[25,null,null,null,""]
[26,null,null,null,""]
[27,null,null,null,""]
[28,null,null,null,""]
[29,null,null,null,""]
[30,null,null,null,""]
[31,null,null,null,""]
[32,null,null,null,""]
[33,null,null,null,""]
[34,null,null,null,""]
[35,null,null,null,""]
[]
["Auswertung",null,null,null,null,{"$f":"A1","v":"Fangstatistik Bolgenach 2022"}]
[null,null,null,null,"Zeit am Wasser",null,null,null,"Kosten"]
["Fischgänge:",null,null,null,{"$f":"SUM(E5:E39)","v":0},{"$f":"COUNT(B5:B39)","v":0},null,{"$f":"IF(F43<>0,200/F43,\"\")","v":""},"pro Fischgang",null,null,null,"Art","Beschreibung"]
["entn. Fische:",null,null,null,null,{"$f":"COUNT(H5:H39,L5:L39,P5:P39,T5:T39)","v":0},null,"Ø cm",{"$f":"IF(F44<>0,SUM(H5:H39,L5:L39,P5:P39,T5:T39)/F44,\"\")","v":""},null,null,null,"KE","keine Entnahme"]
["Anz. BF:",null,null,null,null,{"$f":"COUNTIF(F5:F39,\"BF\")+COUNTIF(J5:J39,\"BF\")+COUNTIF(N5:N39,\"BF\")+COUNTIF(R5:R39,\"BF\")","v":0},null,"Ø cm",{"$f":"IF(F45<>0,(SUMIF(F5:F39,\"BF\",H5:H39)+SUMIF(J5:J39,\"BF\",L5:L39)+SUMIF(N5:N39,\"BF\",P5:P39)+SUMIF(R5:R39,\"BF\",T5:T39))/F45,\"\")","v":""},null,null,null,"KF","kein Fang"]
["Anz. RB:",null,null,null,null,{"$f":"COUNTIF(F5:F39,\"RB\")+COUNTIF(J5:J39,\"RB\")+COUNTIF(N5:N39,\"RB\")+COUNTIF(R5:R39,\"RB\")","v":0},null,"Ø cm",{"$f":"IF(F46<>0,(SUMIF(F5:F39,\"RB\",H5:H39)+SUMIF(J5:J39,\"RB\",L5:L39)+SUMIF(N5:N39,\"RB\",P5:P39)+SUMIF(R5:R39,\"RB\",T5:T39))/F46,\"\")","v":""},{"$f":"IF((SUMIF(F5:F39,\"RB\",H5:H39)+SUMIF(J5:J39,\"RB\",L5:L39)+SUMIF(N5:N39,\"RB\",P5:P39)+SUMIF(R5:R39,\"RB\",T5:T39))=0,\"\",(SUMIF(F5:F39,\"RB\",H5:H39)+SUMIF(J5:J39,\"RB\",L5:L39)+SUMIF(N5:N39,\"RB\",P5:P39)+SUMIF(R5:R39,\"RB\",T5:T39))/F46)","v":""},null,null,"BF","Bachforelle"]
["Anz. SO:",null,null,null,null,{"$f":"COUNTIF(F5:F39,\"SO\")+COUNTIF(J5:J39,\"SO\")+COUNTIF(N5:N39,\"SO\")+COUNTIF(R5:R39,\"SO\")","v":0},null,"Ø cm",{"$f":"IF(F47<>0,(SUMIF(F5:F39,\"SO\",H5:H39)+SUMIF(J5:J39,\"SO\",L5:L39)+SUMIF(N5:N39,\"SO\",P5:P39)+SUMIF(R5:R39,\"SO\",T5:T39))/F47,\"\")","v":""},{"$f":"IF((SUMIF(F6:F40,\"RB\",H6:H40)+SUMIF(J6:J40,\"RB\",L6:L40)+SUMIF(N6:N40,\"RB\",P6:P40)+SUMIF(R6:R40,\"RB\",T6:T40))=0,\"\",(SUMIF(F6:F40,\"RB\",H6:H40)+SUMIF(J6:J40,\"RB\",L6:L40)+SUMIF(N6:N40,\"RB\",P6:P40)+SUMIF(R6:R40,\"RB\",T6:T40))/F47)","v":""},null,null,"RB","Regenbogenforelle"]
["größter Fisch:",null,null,null,null,{"$f":"MAX(H5:H39,L5:L39,P4:P39,T5:T39)","v":0},null,null,null,null,null,null,"SO","sonstige Fischarten"]

{"sheet":"Statistik 2023","index":4,"n_rows":48,"n_cols":23,"rows_kept":48,"cut":false,"hidden":false,"merged":[[0,0,0,19],[1,0,1,19],[2,5,2,7],[2,9,2,11],[2,13,2,15],[2,17,2,19],[2,2,2,4],[45,0,45,1],[45,8,45,10],[46,0,46,1],[47,0,47,1],[42,0,42,1],[42,8,42,10],[43,0,43,1],[43,8,43,10],[44,0,44,1],[44,8,44,10],[41,8,41,10],[47,13,47,16],[46,8,46,10],[42,5,42,6],[43,5,43,6],[44,5,44,6],[45,5,45,6],[46,5,46,6],[47,5,47,6],[42,13,42,16],[43,13,43,16],[44,13,44,16],[45,13,45,16],[46,13,46,16]]}
["Fangstatistik Bolgenach 2023"]
[{"$f":"Übersicht!$B$5","v":"In der Übersicht deinen Namen eintragen!"}]
[null,null,"Zeit (Format HH:MM)",null,null,"Entnahme 1",null,null,null,"Entnahme 2",null,null,null,"Entnahme 3",null,null,null,"Entnahme 4"]
["Nr.","Datum (TT.MM.JJ)","Beginn","Ende","Gesamt","Art","Rev.","cm",null,"Art","Rev.","cm",null,"Art","Rev.","cm",null,"Art","Rev.","cm",null,"Art","Beschreibung"]
[1,null,null,null,{"$f":"IF(C5<>\"\",D5-C5,\"\")","v":""},null,null,null,null,null,null,null,null,null,null,null,null,null,null,null,null,"KE","keine Entnahme"]
[{"$f":"A5+1","v":2},null,null,null,"",null,null,null,null,null,null,null,null,null,null,null,null,null,null,null,null,"KF","kein Fang"]
[3,null,null,null,"",null,null,null,null,null,null,null,null,null,null,null,null,null,null,null,null,"BF","Bachforelle"]
[4,null,null,null,"",null,null,null,null,null,null,null,null,null,null,null,null,null,null,null,null,"RB","Regenbogenforelle"]
[5,null,null,null,"",null,null,null,null,null,null,null,null,null,null,null,null,null,null,null,null,"SO","sonstige Fischarten"]
[6,null,null,null,""]
[7,null,null,null,""]
[8,null,null,null,""]
[9,null,null,null,""]
[10,null,null,null,""]
[11,null,null,null,{"$f":"IF(C15<>\"\",D15-C15,\"\")","v":""}]
[12,null,null,null,""]
[13,null,null,null,""]
[14,null,null,null,""]
[15,null,null,null,""]
[16,null,null,null,""]
[17,null,null,null,""]
[18,null,null,null,""]
[19,null,null,null,""]
[20,null,null,null,""]
[21,null,null,null,""]
[22,null,null,null,""]
[23,null,null,null,""]
[24,null,null,null,""]
[25,null,null,null,""]
[26,null,null,null,""]
[27,null,null,null,""]
[28,null,null,null,""]
[29,null,null,null,""]
[30,null,null,null,""]
[31,null,null,null,""]
[32,null,null,null,""]
[33,null,null,null,""]
[34,null,null,null,""]
[35,null,null,null,""]
[]
["Auswertung",null,null,null,null,{"$f":"A1","v":"Fangstatistik Bolgenach 2023"}]
[null,null,null,null,"Zeit am Wasser",null,null,null,"Kosten"]
["Fischgänge:",null,null,null,{"$f":"SUM(E5:E39)","v":0},{"$f":"COUNT(B5:B39)","v":0},null,{"$f":"IF(F43<>0,200/F43,\"\")","v":""},"pro Fischgang",null,null,null,"Art","Beschreibung"]
["entn. Fische:",null,null,null,null,{"$f":"COUNT(H5:H39,L5:L39,P5:P39,T5:T39)","v":0},null,"Ø cm",{"$f":"IF(F44<>0,SUM(H5:H39,L5:L39,P5:P39,T5:T39)/F44,\"\")","v":""},null,null,null,"KE","keine Entnahme"]
["Anz. BF:",null,null,null,null,{"$f":"COUNTIF(F5:F39,\"BF\")+COUNTIF(J5:J39,\"BF\")+COUNTIF(N5:N39,\"BF\")+COUNTIF(R5:R39,\"BF\")","v":0},null,"Ø cm",{"$f":"IF(F45<>0,(SUMIF(F5:F39,\"BF\",H5:H39)+SUMIF(J5:J39,\"BF\",L5:L39)+SUMIF(N5:N39,\"BF\",P5:P39)+SUMIF(R5:R39,\"BF\",T5:T39))/F45,\"\")","v":""},null,null,null,"KF","kein Fang"]
["Anz. RB:",null,null,null,null,{"$f":"COUNTIF(F5:F39,\"RB\")+COUNTIF(J5:J39,\"RB\")+COUNTIF(N5:N39,\"RB\")+COUNTIF(R5:R39,\"RB\")","v":0},null,"Ø cm",{"$f":"IF(F46<>0,(SUMIF(F5:F39,\"RB\",H5:H39)+SUMIF(J5:J39,\"RB\",L5:L39)+SUMIF(N5:N39,\"RB\",P5:P39)+SUMIF(R5:R39,\"RB\",T5:T39))/F46,\"\")","v":""},{"$f":"IF((SUMIF(F5:F39,\"RB\",H5:H39)+SUMIF(J5:J39,\"RB\",L5:L39)+SUMIF(N5:N39,\"RB\",P5:P39)+SUMIF(R5:R39,\"RB\",T5:T39))=0,\"\",(SUMIF(F5:F39,\"RB\",H5:H39)+SUMIF(J5:J39,\"RB\",L5:L39)+SUMIF(N5:N39,\"RB\",P5:P39)+SUMIF(R5:R39,\"RB\",T5:T39))/F46)","v":""},null,null,"BF","Bachforelle"]
["Anz. SO:",null,null,null,null,{"$f":"COUNTIF(F5:F39,\"SO\")+COUNTIF(J5:J39,\"SO\")+COUNTIF(N5:N39,\"SO\")+COUNTIF(R5:R39,\"SO\")","v":0},null,"Ø cm",{"$f":"IF(F47<>0,(SUMIF(F5:F39,\"SO\",H5:H39)+SUMIF(J5:J39,\"SO\",L5:L39)+SUMIF(N5:N39,\"SO\",P5:P39)+SUMIF(R5:R39,\"SO\",T5:T39))/F47,\"\")","v":""},{"$f":"IF((SUMIF(F6:F40,\"RB\",H6:H40)+SUMIF(J6:J40,\"RB\",L6:L40)+SUMIF(N6:N40,\"RB\",P6:P40)+SUMIF(R6:R40,\"RB\",T6:T40))=0,\"\",(SUMIF(F6:F40,\"RB\",H6:H40)+SUMIF(J6:J40,\"RB\",L6:L40)+SUMIF(N6:N40,\"RB\",P6:P40)+SUMIF(R6:R40,\"RB\",T6:T40))/F47)","v":""},null,null,"RB","Regenbogenforelle"]
["größter Fisch:",null,null,null,null,{"$f":"MAX(H5:H39,L5:L39,P4:P39,T5:T39)","v":0},null,null,null,null,null,null,"SO","sonstige Fischarten"]

{"sheet":"Statistik 2024","index":5,"n_rows":48,"n_cols":23,"rows_kept":48,"cut":false,"hidden":false,"merged":[[0,0,0,19],[1,0,1,19],[2,5,2,7],[2,9,2,11],[2,13,2,15],[2,17,2,19],[2,2,2,4],[45,0,45,1],[45,8,45,10],[46,0,46,1],[47,0,47,1],[42,0,42,1],[42,8,42,10],[43,0,43,1],[43,8,43,10],[44,0,44,1],[44,8,44,10],[41,8,41,10],[47,13,47,16],[46,8,46,10],[42,5,42,6],[43,5,43,6],[44,5,44,6],[45,5,45,6],[46,5,46,6],[47,5,47,6],[42,13,42,16],[43,13,43,16],[44,13,44,16],[45,13,45,16],[46,13,46,16]]}
["Fangstatistik Bolgenach 2024"]
[{"$f":"Übersicht!$B$5","v":"In der Übersicht deinen Namen eintragen!"}]
[null,null,"Zeit (Format HH:MM)",null,null,"Entnahme 1",null,null,null,"Entnahme 2",null,null,null,"Entnahme 3",null,null,null,"Entnahme 4"]
["Nr.","Datum (TT.MM.JJ)","Beginn","Ende","Gesamt","Art","Rev.","cm",null,"Art","Rev.","cm",null,"Art","Rev.","cm",null,"Art","Rev.","cm",null,"Art","Beschreibung"]
[1,null,null,null,{"$f":"IF(C5<>\"\",D5-C5,\"\")","v":""},null,null,null,null,null,null,null,null,null,null,null,null,null,null,null,null,"KE","keine Entnahme"]
[{"$f":"A5+1","v":2},null,null,null,"",null,null,null,null,null,null,null,null,null,null,null,null,null,null,null,null,"KF","kein Fang"]
[3,null,null,null,"",null,null,null,null,null,null,null,null,null,null,null,null,null,null,null,null,"BF","Bachforelle"]
[4,null,null,null,"",null,null,null,null,null,null,null,null,null,null,null,null,null,null,null,null,"RB","Regenbogenforelle"]
[5,null,null,null,"",null,null,null,null,null,null,null,null,null,null,null,null,null,null,null,null,"SO","sonstige Fischarten"]
[6,null,null,null,""]
[7,null,null,null,""]
[8,null,null,null,""]
[9,null,null,null,""]
[10,null,null,null,""]
[11,null,null,null,{"$f":"IF(C15<>\"\",D15-C15,\"\")","v":""}]
[12,null,null,null,""]
[13,null,null,null,""]
[14,null,null,null,""]
[15,null,null,null,""]
[16,null,null,null,""]
[17,null,null,null,""]
[18,null,null,null,""]
[19,null,null,null,""]
[20,null,null,null,""]
[21,null,null,null,""]
[22,null,null,null,""]
[23,null,null,null,""]
[24,null,null,null,""]
[25,null,null,null,""]
[26,null,null,null,""]
[27,null,null,null,""]
[28,null,null,null,""]
[29,null,null,null,""]
[30,null,null,null,""]
[31,null,null,null,""]
[32,null,null,null,""]
[33,null,null,null,""]
[34,null,null,null,""]
[35,null,null,null,""]
[]
["Auswertung",null,null,null,null,{"$f":"A1","v":"Fangstatistik Bolgenach 2024"}]
[null,null,null,null,"Zeit am Wasser",null,null,null,"Kosten"]
["Fischgänge:",null,null,null,{"$f":"SUM(E5:E39)","v":0},{"$f":"COUNT(B5:B39)","v":0},null,{"$f":"IF(F43<>0,200/F43,\"\")","v":""},"pro Fischgang",null,null,null,"Art","Beschreibung"]
["entn. Fische:",null,null,null,null,{"$f":"COUNT(H5:H39,L5:L39,P5:P39,T5:T39)","v":0},null,"Ø cm",{"$f":"IF(F44<>0,SUM(H5:H39,L5:L39,P5:P39,T5:T39)/F44,\"\")","v":""},null,null,null,"KE","keine Entnahme"]
["Anz. BF:",null,null,null,null,{"$f":"COUNTIF(F5:F39,\"BF\")+COUNTIF(J5:J39,\"BF\")+COUNTIF(N5:N39,\"BF\")+COUNTIF(R5:R39,\"BF\")","v":0},null,"Ø cm",{"$f":"IF(F45<>0,(SUMIF(F5:F39,\"BF\",H5:H39)+SUMIF(J5:J39,\"BF\",L5:L39)+SUMIF(N5:N39,\"BF\",P5:P39)+SUMIF(R5:R39,\"BF\",T5:T39))/F45,\"\")","v":""},null,null,null,"KF","kein Fang"]
["Anz. RB:",null,null,null,null,{"$f":"COUNTIF(F5:F39,\"RB\")+COUNTIF(J5:J39,\"RB\")+COUNTIF(N5:N39,\"RB\")+COUNTIF(R5:R39,\"RB\")","v":0},null,"Ø cm",{"$f":"IF(F46<>0,(SUMIF(F5:F39,\"RB\",H5:H39)+SUMIF(J5:J39,\"RB\",L5:L39)+SUMIF(N5:N39,\"RB\",P5:P39)+SUMIF(R5:R39,\"RB\",T5:T39))/F46,\"\")","v":""},{"$f":"IF((SUMIF(F5:F39,\"RB\",H5:H39)+SUMIF(J5:J39,\"RB\",L5:L39)+SUMIF(N5:N39,\"RB\",P5:P39)+SUMIF(R5:R39,\"RB\",T5:T39))=0,\"\",(SUMIF(F5:F39,\"RB\",H5:H39)+SUMIF(J5:J39,\"RB\",L5:L39)+SUMIF(N5:N39,\"RB\",P5:P39)+SUMIF(R5:R39,\"RB\",T5:T39))/F46)","v":""},null,null,"BF","Bachforelle"]
["Anz. SO:",null,null,null,null,{"$f":"COUNTIF(F5:F39,\"SO\")+COUNTIF(J5:J39,\"SO\")+COUNTIF(N5:N39,\"SO\")+COUNTIF(R5:R39,\"SO\")","v":0},null,"Ø cm",{"$f":"IF(F47<>0,(SUMIF(F5:F39,\"SO\",H5:H39)+SUMIF(J5:J39,\"SO\",L5:L39)+SUMIF(N5:N39,\"SO\",P5:P39)+SUMIF(R5:R39,\"SO\",T5:T39))/F47,\"\")","v":""},{"$f":"IF((SUMIF(F6:F40,\"RB\",H6:H40)+SUMIF(J6:J40,\"RB\",L6:L40)+SUMIF(N6:N40,\"RB\",P6:P40)+SUMIF(R6:R40,\"RB\",T6:T40))=0,\"\",(SUMIF(F6:F40,\"RB\",H6:H40)+SUMIF(J6:J40,\"RB\",L6:L40)+SUMIF(N6:N40,\"RB\",P6:P40)+SUMIF(R6:R40,\"RB\",T6:T40))/F47)","v":""},null,null,"RB","Regenbogenforelle"]
["größter Fisch:",null,null,null,null,{"$f":"MAX(H5:H39,L5:L39,P4:P39,T5:T39)","v":0},null,null,null,null,null,null,"SO","sonstige Fischarten"]

{"sheet":"Statistik 2025","index":6,"n_rows":48,"n_cols":23,"rows_kept":48,"cut":false,"hidden":false,"merged":[[0,0,0,19],[1,0,1,19],[2,5,2,7],[2,9,2,11],[2,13,2,15],[2,17,2,19],[2,2,2,4],[45,0,45,1],[45,8,45,10],[46,0,46,1],[47,0,47,1],[42,0,42,1],[42,8,42,10],[43,0,43,1],[43,8,43,10],[44,0,44,1],[44,8,44,10],[41,8,41,10],[47,13,47,16],[46,8,46,10],[42,5,42,6],[43,5,43,6],[44,5,44,6],[45,5,45,6],[46,5,46,6],[47,5,47,6],[42,13,42,16],[43,13,43,16],[44,13,44,16],[45,13,45,16],[46,13,46,16]]}
["Fangstatistik Bolgenach 2025"]
[{"$f":"Übersicht!$B$5","v":"In der Übersicht deinen Namen eintragen!"}]
[null,null,"Zeit (Format HH:MM)",null,null,"Entnahme 1",null,null,null,"Entnahme 2",null,null,null,"Entnahme 3",null,null,null,"Entnahme 4"]
["Nr.","Datum (TT.MM.JJ)","Beginn","Ende","Gesamt","Art","Rev.","cm",null,"Art","Rev.","cm",null,"Art","Rev.","cm",null,"Art","Rev.","cm",null,"Art","Beschreibung"]
[1,null,null,null,{"$f":"IF(C5<>\"\",D5-C5,\"\")","v":""},null,null,null,null,null,null,null,null,null,null,null,null,null,null,null,null,"KE","keine Entnahme"]
[{"$f":"A5+1","v":2},null,null,null,"",null,null,null,null,null,null,null,null,null,null,null,null,null,null,null,null,"KF","kein Fang"]
[3,null,null,null,"",null,null,null,null,null,null,null,null,null,null,null,null,null,null,null,null,"BF","Bachforelle"]
[4,null,null,null,"",null,null,null,null,null,null,null,null,null,null,null,null,null,null,null,null,"RB","Regenbogenforelle"]
[5,null,null,null,"",null,null,null,null,null,null,null,null,null,null,null,null,null,null,null,null,"SO","sonstige Fischarten"]
[6,null,null,null,""]
[7,null,null,null,""]
[8,null,null,null,""]
[9,null,null,null,""]
[10,null,null,null,""]
[11,null,null,null,{"$f":"IF(C15<>\"\",D15-C15,\"\")","v":""}]
[12,null,null,null,""]
[13,null,null,null,""]
[14,null,null,null,""]
[15,null,null,null,""]
[16,null,null,null,""]
[17,null,null,null,""]
[18,null,null,null,""]
[19,null,null,null,""]
[20,null,null,null,""]
[21,null,null,null,""]
[22,null,null,null,""]
[23,null,null,null,""]
[24,null,null,null,""]
[25,null,null,null,""]
[26,null,null,null,""]
[27,null,null,null,""]
[28,null,null,null,""]
[29,null,null,null,""]
[30,null,null,null,""]
[31,null,null,null,""]
[32,null,null,null,""]
[33,null,null,null,""]
[34,null,null,null,""]
[35,null,null,null,""]
[]
["Auswertung",null,null,null,null,{"$f":"A1","v":"Fangstatistik Bolgenach 2025"}]
[null,null,null,null,"Zeit am Wasser",null,null,null,"Kosten"]
["Fischgänge:",null,null,null,{"$f":"SUM(E5:E39)","v":0},{"$f":"COUNT(B5:B39)","v":0},null,{"$f":"IF(F43<>0,200/F43,\"\")","v":""},"pro Fischgang",null,null,null,"Art","Beschreibung"]
["entn. Fische:",null,null,null,null,{"$f":"COUNT(H5:H39,L5:L39,P5:P39,T5:T39)","v":0},null,"Ø cm",{"$f":"IF(F44<>0,SUM(H5:H39,L5:L39,P5:P39,T5:T39)/F44,\"\")","v":""},null,null,null,"KE","keine Entnahme"]
["Anz. BF:",null,null,null,null,{"$f":"COUNTIF(F5:F39,\"BF\")+COUNTIF(J5:J39,\"BF\")+COUNTIF(N5:N39,\"BF\")+COUNTIF(R5:R39,\"BF\")","v":0},null,"Ø cm",{"$f":"IF(F45<>0,(SUMIF(F5:F39,\"BF\",H5:H39)+SUMIF(J5:J39,\"BF\",L5:L39)+SUMIF(N5:N39,\"BF\",P5:P39)+SUMIF(R5:R39,\"BF\",T5:T39))/F45,\"\")","v":""},null,null,null,"KF","kein Fang"]
["Anz. RB:",null,null,null,null,{"$f":"COUNTIF(F5:F39,\"RB\")+COUNTIF(J5:J39,\"RB\")+COUNTIF(N5:N39,\"RB\")+COUNTIF(R5:R39,\"RB\")","v":0},null,"Ø cm",{"$f":"IF(F46<>0,(SUMIF(F5:F39,\"RB\",H5:H39)+SUMIF(J5:J39,\"RB\",L5:L39)+SUMIF(N5:N39,\"RB\",P5:P39)+SUMIF(R5:R39,\"RB\",T5:T39))/F46,\"\")","v":""},{"$f":"IF((SUMIF(F5:F39,\"RB\",H5:H39)+SUMIF(J5:J39,\"RB\",L5:L39)+SUMIF(N5:N39,\"RB\",P5:P39)+SUMIF(R5:R39,\"RB\",T5:T39))=0,\"\",(SUMIF(F5:F39,\"RB\",H5:H39)+SUMIF(J5:J39,\"RB\",L5:L39)+SUMIF(N5:N39,\"RB\",P5:P39)+SUMIF(R5:R39,\"RB\",T5:T39))/F46)","v":""},null,null,"BF","Bachforelle"]
["Anz. SO:",null,null,null,null,{"$f":"COUNTIF(F5:F39,\"SO\")+COUNTIF(J5:J39,\"SO\")+COUNTIF(N5:N39,\"SO\")+COUNTIF(R5:R39,\"SO\")","v":0},null,"Ø cm",{"$f":"IF(F47<>0,(SUMIF(F5:F39,\"SO\",H5:H39)+SUMIF(J5:J39,\"SO\",L5:L39)+SUMIF(N5:N39,\"SO\",P5:P39)+SUMIF(R5:R39,\"SO\",T5:T39))/F47,\"\")","v":""},{"$f":"IF((SUMIF(F6:F40,\"RB\",H6:H40)+SUMIF(J6:J40,\"RB\",L6:L40)+SUMIF(N6:N40,\"RB\",P6:P40)+SUMIF(R6:R40,\"RB\",T6:T40))=0,\"\",(SUMIF(F6:F40,\"RB\",H6:H40)+SUMIF(J6:J40,\"RB\",L6:L40)+SUMIF(N6:N40,\"RB\",P6:P40)+SUMIF(R6:R40,\"RB\",T6:T40))/F47)","v":""},null,null,"RB","Regenbogenforelle"]
["größter Fisch:",null,null,null,null,{"$f":"MAX(H5:H39,L5:L39,P4:P39,T5:T39)","v":0},null,null,null,null,null,null,"SO","sonstige Fischarten"]

{"sheet":"Statistik 2026","index":7,"n_rows":48,"n_cols":23,"rows_kept":48,"cut":false,"hidden":false,"merged":[[0,0,0,19],[1,0,1,19],[2,5,2,7],[2,9,2,11],[2,13,2,15],[2,17,2,19],[2,2,2,4],[45,0,45,1],[45,8,45,10],[46,0,46,1],[47,0,47,1],[42,0,42,1],[42,8,42,10],[43,0,43,1],[43,8,43,10],[44,0,44,1],[44,8,44,10],[41,8,41,10],[47,13,47,16],[46,8,46,10],[42,5,42,6],[43,5,43,6],[44,5,44,6],[45,5,45,6],[46,5,46,6],[47,5,47,6],[42,13,42,16],[43,13,43,16],[44,13,44,16],[45,13,45,16],[46,13,46,16]]}
["Fangstatistik Bolgenach 2026"]
[{"$f":"Übersicht!$B$5","v":"In der Übersicht deinen Namen eintragen!"}]
[null,null,"Zeit (Format HH:MM)",null,null,"Entnahme 1",null,null,null,"Entnahme 2",null,null,null,"Entnahme 3",null,null,null,"Entnahme 4"]
["Nr.","Datum (TT.MM.JJ)","Beginn","Ende","Gesamt","Art","Rev.","cm",null,"Art","Rev.","cm",null,"Art","Rev.","cm",null,"Art","Rev.","cm",null,"Art","Beschreibung"]
[1,null,null,null,{"$f":"IF(C5<>\"\",D5-C5,\"\")","v":""},null,null,null,null,null,null,null,null,null,null,null,null,null,null,null,null,"KE","keine Entnahme"]
[{"$f":"A5+1","v":2},null,null,null,"",null,null,null,null,null,null,null,null,null,null,null,null,null,null,null,null,"KF","kein Fang"]
[3,null,null,null,"",null,null,null,null,null,null,null,null,null,null,null,null,null,null,null,null,"BF","Bachforelle"]
[4,null,null,null,"",null,null,null,null,null,null,null,null,null,null,null,null,null,null,null,null,"RB","Regenbogenforelle"]
[5,null,null,null,"",null,null,null,null,null,null,null,null,null,null,null,null,null,null,null,null,"SO","sonstige Fischarten"]
[6,null,null,null,""]
[7,null,null,null,""]
[8,null,null,null,""]
[9,null,null,null,""]
[10,null,null,null,""]
[11,null,null,null,{"$f":"IF(C15<>\"\",D15-C15,\"\")","v":""}]
[12,null,null,null,""]
[13,null,null,null,""]
[14,null,null,null,""]
[15,null,null,null,""]
[16,null,null,null,""]
[17,null,null,null,""]
[18,null,null,null,""]
[19,null,null,null,""]
[20,null,null,null,""]
[21,null,null,null,""]
[22,null,null,null,""]
[23,null,null,null,""]
[24,null,null,null,""]
[25,null,null,null,""]
[26,null,null,null,""]
[27,null,null,null,""]
[28,null,null,null,""]
[29,null,null,null,""]
[30,null,null,null,""]
[31,null,null,null,""]
[32,null,null,null,""]
[33,null,null,null,""]
[34,null,null,null,""]
[35,null,null,null,""]
[]
["Auswertung",null,null,null,null,{"$f":"A1","v":"Fangstatistik Bolgenach 2026"}]
[null,null,null,null,"Zeit am Wasser",null,null,null,"Kosten"]
["Fischgänge:",null,null,null,{"$f":"SUM(E5:E39)","v":0},{"$f":"COUNT(B5:B39)","v":0},null,{"$f":"IF(F43<>0,200/F43,\"\")","v":""},"pro Fischgang",null,null,null,"Art","Beschreibung"]
["entn. Fische:",null,null,null,null,{"$f":"COUNT(H5:H39,L5:L39,P5:P39,T5:T39)","v":0},null,"Ø cm",{"$f":"IF(F44<>0,SUM(H5:H39,L5:L39,P5:P39,T5:T39)/F44,\"\")","v":""},null,null,null,"KE","keine Entnahme"]
["Anz. BF:",null,null,null,null,{"$f":"COUNTIF(F5:F39,\"BF\")+COUNTIF(J5:J39,\"BF\")+COUNTIF(N5:N39,\"BF\")+COUNTIF(R5:R39,\"BF\")","v":0},null,"Ø cm",{"$f":"IF(F45<>0,(SUMIF(F5:F39,\"BF\",H5:H39)+SUMIF(J5:J39,\"BF\",L5:L39)+SUMIF(N5:N39,\"BF\",P5:P39)+SUMIF(R5:R39,\"BF\",T5:T39))/F45,\"\")","v":""},null,null,null,"KF","kein Fang"]
["Anz. RB:",null,null,null,null,{"$f":"COUNTIF(F5:F39,\"RB\")+COUNTIF(J5:J39,\"RB\")+COUNTIF(N5:N39,\"RB\")+COUNTIF(R5:R39,\"RB\")","v":0},null,"Ø cm",{"$f":"IF(F46<>0,(SUMIF(F5:F39,\"RB\",H5:H39)+SUMIF(J5:J39,\"RB\",L5:L39)+SUMIF(N5:N39,\"RB\",P5:P39)+SUMIF(R5:R39,\"RB\",T5:T39))/F46,\"\")","v":""},{"$f":"IF((SUMIF(F5:F39,\"RB\",H5:H39)+SUMIF(J5:J39,\"RB\",L5:L39)+SUMIF(N5:N39,\"RB\",P5:P39)+SUMIF(R5:R39,\"RB\",T5:T39))=0,\"\",(SUMIF(F5:F39,\"RB\",H5:H39)+SUMIF(J5:J39,\"RB\",L5:L39)+SUMIF(N5:N39,\"RB\",P5:P39)+SUMIF(R5:R39,\"RB\",T5:T39))/F46)","v":""},null,null,"BF","Bachforelle"]
["Anz. SO:",null,null,null,null,{"$f":"COUNTIF(F5:F39,\"SO\")+COUNTIF(J5:J39,\"SO\")+COUNTIF(N5:N39,\"SO\")+COUNTIF(R5:R39,\"SO\")","v":0},null,"Ø cm",{"$f":"IF(F47<>0,(SUMIF(F5:F39,\"SO\",H5:H39)+SUMIF(J5:J39,\"SO\",L5:L39)+SUMIF(N5:N39,\"SO\",P5:P39)+SUMIF(R5:R39,\"SO\",T5:T39))/F47,\"\")","v":""},{"$f":"IF((SUMIF(F6:F40,\"RB\",H6:H40)+SUMIF(J6:J40,\"RB\",L6:L40)+SUMIF(N6:N40,\"RB\",P6:P40)+SUMIF(R6:R40,\"RB\",T6:T40))=0,\"\",(SUMIF(F6:F40,\"RB\",H6:H40)+SUMIF(J6:J40,\"RB\",L6:L40)+SUMIF(N6:N40,\"RB\",P6:P40)+SUMIF(R6:R40,\"RB\",T6:T40))/F47)","v":""},null,null,"RB","Regenbogenforelle"]
["größter Fisch:",null,null,null,null,{"$f":"MAX(H5:H39,L5:L39,P4:P39,T5:T39)","v":0},null,null,null,null,null,null,"SO","sonstige Fischarten"]

{"sheet":"Statistik 2027","index":8,"n_rows":48,"n_cols":23,"rows_kept":48,"cut":false,"hidden":false,"merged":[[0,0,0,19],[1,0,1,19],[2,5,2,7],[2,9,2,11],[2,13,2,15],[2,17,2,19],[2,2,2,4],[45,0,45,1],[45,8,45,10],[46,0,46,1],[47,0,47,1],[42,0,42,1],[42,8,42,10],[43,0,43,1],[43,8,43,10],[44,0,44,1],[44,8,44,10],[41,8,41,10],[47,13,47,16],[46,8,46,10],[42,5,42,6],[43,5,43,6],[44,5,44,6],[45,5,45,6],[46,5,46,6],[47,5,47,6],[42,13,42,16],[43,13,43,16],[44,13,44,16],[45,13,45,16],[46,13,46,16]]}
["Fangstatistik Bolgenach 2027"]
[{"$f":"Übersicht!$B$5","v":"In der Übersicht deinen Namen eintragen!"}]
[null,null,"Zeit (Format HH:MM)",null,null,"Entnahme 1",null,null,null,"Entnahme 2",null,null,null,"Entnahme 3",null,null,null,"Entnahme 4"]
["Nr.","Datum (TT.MM.JJ)","Beginn","Ende","Gesamt","Art","Rev.","cm",null,"Art","Rev.","cm",null,"Art","Rev.","cm",null,"Art","Rev.","cm",null,"Art","Beschreibung"]
[1,null,null,null,{"$f":"IF(C5<>\"\",D5-C5,\"\")","v":""},null,null,null,null,null,null,null,null,null,null,null,null,null,null,null,null,"KE","keine Entnahme"]
[{"$f":"A5+1","v":2},null,null,null,"",null,null,null,null,null,null,null,null,null,null,null,null,null,null,null,null,"KF","kein Fang"]
[3,null,null,null,"",null,null,null,null,null,null,null,null,null,null,null,null,null,null,null,null,"BF","Bachforelle"]
[4,null,null,null,"",null,null,null,null,null,null,null,null,null,null,null,null,null,null,null,null,"RB","Regenbogenforelle"]
[5,null,null,null,"",null,null,null,null,null,null,null,null,null,null,null,null,null,null,null,null,"SO","sonstige Fischarten"]
[6,null,null,null,""]
[7,null,null,null,""]
[8,null,null,null,""]
[9,null,null,null,""]
[10,null,null,null,""]
[11,null,null,null,{"$f":"IF(C15<>\"\",D15-C15,\"\")","v":""}]
[12,null,null,null,""]
[13,null,null,null,""]
[14,null,null,null,""]
[15,null,null,null,""]
[16,null,null,null,""]
[17,null,null,null,""]
[18,null,null,null,""]
[19,null,null,null,""]
[20,null,null,null,""]
[21,null,null,null,""]
[22,null,null,null,""]
[23,null,null,null,""]
[24,null,null,null,""]
[25,null,null,null,""]
[26,null,null,null,""]
[27,null,null,null,""]
[28,null,null,null,""]
[29,null,null,null,""]
[30,null,null,null,""]
[31,null,null,null,""]
[32,null,null,null,""]
[33,null,null,null,""]
[34,null,null,null,""]
[35,null,null,null,""]
[]
["Auswertung",null,null,null,null,{"$f":"A1","v":"Fangstatistik Bolgenach 2027"}]
[null,null,null,null,"Zeit am Wasser",null,null,null,"Kosten"]
["Fischgänge:",null,null,null,{"$f":"SUM(E5:E39)","v":0},{"$f":"COUNT(B5:B39)","v":0},null,{"$f":"IF(F43<>0,200/F43,\"\")","v":""},"pro Fischgang",null,null,null,"Art","Beschreibung"]
["entn. Fische:",null,null,null,null,{"$f":"COUNT(H5:H39,L5:L39,P5:P39,T5:T39)","v":0},null,"Ø cm",{"$f":"IF(F44<>0,SUM(H5:H39,L5:L39,P5:P39,T5:T39)/F44,\"\")","v":""},null,null,null,"KE","keine Entnahme"]
["Anz. BF:",null,null,null,null,{"$f":"COUNTIF(F5:F39,\"BF\")+COUNTIF(J5:J39,\"BF\")+COUNTIF(N5:N39,\"BF\")+COUNTIF(R5:R39,\"BF\")","v":0},null,"Ø cm",{"$f":"IF(F45<>0,(SUMIF(F5:F39,\"BF\",H5:H39)+SUMIF(J5:J39,\"BF\",L5:L39)+SUMIF(N5:N39,\"BF\",P5:P39)+SUMIF(R5:R39,\"BF\",T5:T39))/F45,\"\")","v":""},null,null,null,"KF","kein Fang"]
["Anz. RB:",null,null,null,null,{"$f":"COUNTIF(F5:F39,\"RB\")+COUNTIF(J5:J39,\"RB\")+COUNTIF(N5:N39,\"RB\")+COUNTIF(R5:R39,\"RB\")","v":0},null,"Ø cm",{"$f":"IF(F46<>0,(SUMIF(F5:F39,\"RB\",H5:H39)+SUMIF(J5:J39,\"RB\",L5:L39)+SUMIF(N5:N39,\"RB\",P5:P39)+SUMIF(R5:R39,\"RB\",T5:T39))/F46,\"\")","v":""},{"$f":"IF((SUMIF(F5:F39,\"RB\",H5:H39)+SUMIF(J5:J39,\"RB\",L5:L39)+SUMIF(N5:N39,\"RB\",P5:P39)+SUMIF(R5:R39,\"RB\",T5:T39))=0,\"\",(SUMIF(F5:F39,\"RB\",H5:H39)+SUMIF(J5:J39,\"RB\",L5:L39)+SUMIF(N5:N39,\"RB\",P5:P39)+SUMIF(R5:R39,\"RB\",T5:T39))/F46)","v":""},null,null,"BF","Bachforelle"]
["Anz. SO:",null,null,null,null,{"$f":"COUNTIF(F5:F39,\"SO\")+COUNTIF(J5:J39,\"SO\")+COUNTIF(N5:N39,\"SO\")+COUNTIF(R5:R39,\"SO\")","v":0},null,"Ø cm",{"$f":"IF(F47<>0,(SUMIF(F5:F39,\"SO\",H5:H39)+SUMIF(J5:J39,\"SO\",L5:L39)+SUMIF(N5:N39,\"SO\",P5:P39)+SUMIF(R5:R39,\"SO\",T5:T39))/F47,\"\")","v":""},{"$f":"IF((SUMIF(F6:F40,\"RB\",H6:H40)+SUMIF(J6:J40,\"RB\",L6:L40)+SUMIF(N6:N40,\"RB\",P6:P40)+SUMIF(R6:R40,\"RB\",T6:T40))=0,\"\",(SUMIF(F6:F40,\"RB\",H6:H40)+SUMIF(J6:J40,\"RB\",L6:L40)+SUMIF(N6:N40,\"RB\",P6:P40)+SUMIF(R6:R40,\"RB\",T6:T40))/F47)","v":""},null,null,"RB","Regenbogenforelle"]
["größter Fisch:",null,null,null,null,{"$f":"MAX(H5:H39,L5:L39,P4:P39,T5:T39)","v":0},null,null,null,null,null,null,"SO","sonstige Fischarten"]

{"sheet":"Statistik 2028","index":9,"n_rows":48,"n_cols":23,"rows_kept":48,"cut":false,"hidden":false,"merged":[[0,0,0,19],[1,0,1,19],[2,5,2,7],[2,9,2,11],[2,13,2,15],[2,17,2,19],[2,2,2,4],[45,0,45,1],[45,8,45,10],[46,0,46,1],[47,0,47,1],[42,0,42,1],[42,8,42,10],[43,0,43,1],[43,8,43,10],[44,0,44,1],[44,8,44,10],[41,8,41,10],[47,13,47,16],[46,8,46,10],[42,5,42,6],[43,5,43,6],[44,5,44,6],[45,5,45,6],[46,5,46,6],[47,5,47,6],[42,13,42,16],[43,13,43,16],[44,13,44,16],[45,13,45,16],[46,13,46,16]]}
["Fangstatistik Bolgenach 2028"]
[{"$f":"Übersicht!$B$5","v":"In der Übersicht deinen Namen eintragen!"}]
[null,null,"Zeit (Format HH:MM)",null,null,"Entnahme 1",null,null,null,"Entnahme 2",null,null,null,"Entnahme 3",null,null,null,"Entnahme 4"]
["Nr.","Datum (TT.MM.JJ)","Beginn","Ende","Gesamt","Art","Rev.","cm",null,"Art","Rev.","cm",null,"Art","Rev.","cm",null,"Art","Rev.","cm",null,"Art","Beschreibung"]
[1,null,null,null,{"$f":"IF(C5<>\"\",D5-C5,\"\")","v":""},null,null,null,null,null,null,null,null,null,null,null,null,null,null,null,null,"KE","keine Entnahme"]
[{"$f":"A5+1","v":2},null,null,null,"",null,null,null,null,null,null,null,null,null,null,null,null,null,null,null,null,"KF","kein Fang"]
[3,null,null,null,"",null,null,null,null,null,null,null,null,null,null,null,null,null,null,null,null,"BF","Bachforelle"]
[4,null,null,null,"",null,null,null,null,null,null,null,null,null,null,null,null,null,null,null,null,"RB","Regenbogenforelle"]
[5,null,null,null,"",null,null,null,null,null,null,null,null,null,null,null,null,null,null,null,null,"SO","sonstige Fischarten"]
[6,null,null,null,""]
[7,null,null,null,""]
[8,null,null,null,""]
[9,null,null,null,""]
[10,null,null,null,""]
[11,null,null,null,{"$f":"IF(C15<>\"\",D15-C15,\"\")","v":""}]
[12,null,null,null,""]
[13,null,null,null,""]
[14,null,null,null,""]
[15,null,null,null,""]
[16,null,null,null,""]
[17,null,null,null,""]
[18,null,null,null,""]
[19,null,null,null,""]
[20,null,null,null,""]
[21,null,null,null,""]
[22,null,null,null,""]
[23,null,null,null,""]
[24,null,null,null,""]
[25,null,null,null,""]
[26,null,null,null,""]
[27,null,null,null,""]
[28,null,null,null,""]
[29,null,null,null,""]
[30,null,null,null,""]
[31,null,null,null,""]
[32,null,null,null,""]
[33,null,null,null,""]
[34,null,null,null,""]
[35,null,null,null,""]
[]
["Auswertung",null,null,null,null,{"$f":"A1","v":"Fangstatistik Bolgenach 2028"}]
[null,null,null,null,"Zeit am Wasser",null,null,null,"Kosten"]
["Fischgänge:",null,null,null,{"$f":"SUM(E5:E39)","v":0},{"$f":"COUNT(B5:B39)","v":0},null,{"$f":"IF(F43<>0,200/F43,\"\")","v":""},"pro Fischgang",null,null,null,"Art","Beschreibung"]
["entn. Fische:",null,null,null,null,{"$f":"COUNT(H5:H39,L5:L39,P5:P39,T5:T39)","v":0},null,"Ø cm",{"$f":"IF(F44<>0,SUM(H5:H39,L5:L39,P5:P39,T5:T39)/F44,\"\")","v":""},null,null,null,"KE","keine Entnahme"]
["Anz. BF:",null,null,null,null,{"$f":"COUNTIF(F5:F39,\"BF\")+COUNTIF(J5:J39,\"BF\")+COUNTIF(N5:N39,\"BF\")+COUNTIF(R5:R39,\"BF\")","v":0},null,"Ø cm",{"$f":"IF(F45<>0,(SUMIF(F5:F39,\"BF\",H5:H39)+SUMIF(J5:J39,\"BF\",L5:L39)+SUMIF(N5:N39,\"BF\",P5:P39)+SUMIF(R5:R39,\"BF\",T5:T39))/F45,\"\")","v":""},null,null,null,"KF","kein Fang"]
["Anz. RB:",null,null,null,null,{"$f":"COUNTIF(F5:F39,\"RB\")+COUNTIF(J5:J39,\"RB\")+COUNTIF(N5:N39,\"RB\")+COUNTIF(R5:R39,\"RB\")","v":0},null,"Ø cm",{"$f":"IF(F46<>0,(SUMIF(F5:F39,\"RB\",H5:H39)+SUMIF(J5:J39,\"RB\",L5:L39)+SUMIF(N5:N39,\"RB\",P5:P39)+SUMIF(R5:R39,\"RB\",T5:T39))/F46,\"\")","v":""},{"$f":"IF((SUMIF(F5:F39,\"RB\",H5:H39)+SUMIF(J5:J39,\"RB\",L5:L39)+SUMIF(N5:N39,\"RB\",P5:P39)+SUMIF(R5:R39,\"RB\",T5:T39))=0,\"\",(SUMIF(F5:F39,\"RB\",H5:H39)+SUMIF(J5:J39,\"RB\",L5:L39)+SUMIF(N5:N39,\"RB\",P5:P39)+SUMIF(R5:R39,\"RB\",T5:T39))/F46)","v":""},null,null,"BF","Bachforelle"]
["Anz. SO:",null,null,null,null,{"$f":"COUNTIF(F5:F39,\"SO\")+COUNTIF(J5:J39,\"SO\")+COUNTIF(N5:N39,\"SO\")+COUNTIF(R5:R39,\"SO\")","v":0},null,"Ø cm",{"$f":"IF(F47<>0,(SUMIF(F5:F39,\"SO\",H5:H39)+SUMIF(J5:J39,\"SO\",L5:L39)+SUMIF(N5:N39,\"SO\",P5:P39)+SUMIF(R5:R39,\"SO\",T5:T39))/F47,\"\")","v":""},{"$f":"IF((SUMIF(F6:F40,\"RB\",H6:H40)+SUMIF(J6:J40,\"RB\",L6:L40)+SUMIF(N6:N40,\"RB\",P6:P40)+SUMIF(R6:R40,\"RB\",T6:T40))=0,\"\",(SUMIF(F6:F40,\"RB\",H6:H40)+SUMIF(J6:J40,\"RB\",L6:L40)+SUMIF(N6:N40,\"RB\",P6:P40)+SUMIF(R6:R40,\"RB\",T6:T40))/F47)","v":""},null,null,"RB","Regenbogenforelle"]
["größter Fisch:",null,null,null,null,{"$f":"MAX(H5:H39,L5:L39,P4:P39,T5:T39)","v":0},null,null,null,null,null,null,"SO","sonstige Fischarten"]

{"sheet":"Statistik 2029","index":10,"n_rows":48,"n_cols":23,"rows_kept":48,"cut":false,"hidden":false,"merged":[[0,0,0,19],[1,0,1,19],[2,5,2,7],[2,9,2,11],[2,13,2,15],[2,17,2,19],[2,2,2,4],[45,0,45,1],[45,8,45,10],[46,0,46,1],[47,0,47,1],[42,0,42,1],[42,8,42,10],[43,0,43,1],[43,8,43,10],[44,0,44,1],[44,8,44,10],[41,8,41,10],[47,13,47,16],[46,8,46,10],[42,5,42,6],[43,5,43,6],[44,5,44,6],[45,5,45,6],[46,5,46,6],[47,5,47,6],[42,13,42,16],[43,13,43,16],[44,13,44,16],[45,13,45,16],[46,13,46,16]]}
["Fangstatistik Bolgenach 2029"]
[{"$f":"Übersicht!$B$5","v":"In der Übersicht deinen Namen eintragen!"}]
[null,null,"Zeit (Format HH:MM)",null,null,"Entnahme 1",null,null,null,"Entnahme 2",null,null,null,"Entnahme 3",null,null,null,"Entnahme 4"]
["Nr.","Datum (TT.MM.JJ)","Beginn","Ende","Gesamt","Art","Rev.","cm",null,"Art","Rev.","cm",null,"Art","Rev.","cm",null,"Art","Rev.","cm",null,"Art","Beschreibung"]
[1,null,null,null,{"$f":"IF(C5<>\"\",D5-C5,\"\")","v":""},null,null,null,null,null,null,null,null,null,null,null,null,null,null,null,null,"KE","keine Entnahme"]
[{"$f":"A5+1","v":2},null,null,null,"",null,null,null,null,null,null,null,null,null,null,null,null,null,null,null,null,"KF","kein Fang"]
[3,null,null,null,"",null,null,null,null,null,null,null,null,null,null,null,null,null,null,null,null,"BF","Bachforelle"]
[4,null,null,null,"",null,null,null,null,null,null,null,null,null,null,null,null,null,null,null,null,"RB","Regenbogenforelle"]
[5,null,null,null,"",null,null,null,null,null,null,null,null,null,null,null,null,null,null,null,null,"SO","sonstige Fischarten"]
[6,null,null,null,""]
[7,null,null,null,""]
[8,null,null,null,""]
[9,null,null,null,""]
[10,null,null,null,""]
[11,null,null,null,{"$f":"IF(C15<>\"\",D15-C15,\"\")","v":""}]
[12,null,null,null,""]
[13,null,null,null,""]
[14,null,null,null,""]
[15,null,null,null,""]
[16,null,null,null,""]
[17,null,null,null,""]
[18,null,null,null,""]
[19,null,null,null,""]
[20,null,null,null,""]
[21,null,null,null,""]
[22,null,null,null,""]
[23,null,null,null,""]
[24,null,null,null,""]
[25,null,null,null,""]
[26,null,null,null,""]
[27,null,null,null,""]
[28,null,null,null,""]
[29,null,null,null,""]
[30,null,null,null,""]
[31,null,null,null,""]
[32,null,null,null,""]
[33,null,null,null,""]
[34,null,null,null,""]
[35,null,null,null,""]
[]
["Auswertung",null,null,null,null,{"$f":"A1","v":"Fangstatistik Bolgenach 2029"}]
[null,null,null,null,"Zeit am Wasser",null,null,null,"Kosten"]
["Fischgänge:",null,null,null,{"$f":"SUM(E5:E39)","v":0},{"$f":"COUNT(B5:B39)","v":0},null,{"$f":"IF(F43<>0,200/F43,\"\")","v":""},"pro Fischgang",null,null,null,"Art","Beschreibung"]
["entn. Fische:",null,null,null,null,{"$f":"COUNT(H5:H39,L5:L39,P5:P39,T5:T39)","v":0},null,"Ø cm",{"$f":"IF(F44<>0,SUM(H5:H39,L5:L39,P5:P39,T5:T39)/F44,\"\")","v":""},null,null,null,"KE","keine Entnahme"]
["Anz. BF:",null,null,null,null,{"$f":"COUNTIF(F5:F39,\"BF\")+COUNTIF(J5:J39,\"BF\")+COUNTIF(N5:N39,\"BF\")+COUNTIF(R5:R39,\"BF\")","v":0},null,"Ø cm",{"$f":"IF(F45<>0,(SUMIF(F5:F39,\"BF\",H5:H39)+SUMIF(J5:J39,\"BF\",L5:L39)+SUMIF(N5:N39,\"BF\",P5:P39)+SUMIF(R5:R39,\"BF\",T5:T39))/F45,\"\")","v":""},null,null,null,"KF","kein Fang"]
["Anz. RB:",null,null,null,null,{"$f":"COUNTIF(F5:F39,\"RB\")+COUNTIF(J5:J39,\"RB\")+COUNTIF(N5:N39,\"RB\")+COUNTIF(R5:R39,\"RB\")","v":0},null,"Ø cm",{"$f":"IF(F46<>0,(SUMIF(F5:F39,\"RB\",H5:H39)+SUMIF(J5:J39,\"RB\",L5:L39)+SUMIF(N5:N39,\"RB\",P5:P39)+SUMIF(R5:R39,\"RB\",T5:T39))/F46,\"\")","v":""},{"$f":"IF((SUMIF(F5:F39,\"RB\",H5:H39)+SUMIF(J5:J39,\"RB\",L5:L39)+SUMIF(N5:N39,\"RB\",P5:P39)+SUMIF(R5:R39,\"RB\",T5:T39))=0,\"\",(SUMIF(F5:F39,\"RB\",H5:H39)+SUMIF(J5:J39,\"RB\",L5:L39)+SUMIF(N5:N39,\"RB\",P5:P39)+SUMIF(R5:R39,\"RB\",T5:T39))/F46)","v":""},null,null,"BF","Bachforelle"]
["Anz. SO:",null,null,null,null,{"$f":"COUNTIF(F5:F39,\"SO\")+COUNTIF(J5:J39,\"SO\")+COUNTIF(N5:N39,\"SO\")+COUNTIF(R5:R39,\"SO\")","v":0},null,"Ø cm",{"$f":"IF(F47<>0,(SUMIF(F5:F39,\"SO\",H5:H39)+SUMIF(J5:J39,\"SO\",L5:L39)+SUMIF(N5:N39,\"SO\",P5:P39)+SUMIF(R5:R39,\"SO\",T5:T39))/F47,\"\")","v":""},{"$f":"IF((SUMIF(F6:F40,\"RB\",H6:H40)+SUMIF(J6:J40,\"RB\",L6:L40)+SUMIF(N6:N40,\"RB\",P6:P40)+SUMIF(R6:R40,\"RB\",T6:T40))=0,\"\",(SUMIF(F6:F40,\"RB\",H6:H40)+SUMIF(J6:J40,\"RB\",L6:L40)+SUMIF(N6:N40,\"RB\",P6:P40)+SUMIF(R6:R40,\"RB\",T6:T40))/F47)","v":""},null,null,"RB","Regenbogenforelle"]
["größter Fisch:",null,null,null,null,{"$f":"MAX(H5:H39,L5:L39,P4:P39,T5:T39)","v":0},null,null,null,null,null,null,"SO","sonstige Fischarten"]

{"sheet":"Statistik 2030","index":11,"n_rows":48,"n_cols":23,"rows_kept":48,"cut":false,"hidden":false,"merged":[[0,0,0,19],[1,0,1,19],[2,5,2,7],[2,9,2,11],[2,13,2,15],[2,17,2,19],[2,2,2,4],[45,0,45,1],[45,8,45,10],[46,0,46,1],[47,0,47,1],[42,0,42,1],[42,8,42,10],[43,0,43,1],[43,8,43,10],[44,0,44,1],[44,8,44,10],[41,8,41,10],[47,13,47,16],[46,8,46,10],[42,5,42,6],[43,5,43,6],[44,5,44,6],[45,5,45,6],[46,5,46,6],[47,5,47,6],[42,13,42,16],[43,13,43,16],[44,13,44,16],[45,13,45,16],[46,13,46,16]]}
["Fangstatistik Bolgenach 2030"]
[{"$f":"Übersicht!$B$5","v":"In der Übersicht deinen Namen eintragen!"}]
[null,null,"Zeit (Format HH:MM)",null,null,"Entnahme 1",null,null,null,"Entnahme 2",null,null,null,"Entnahme 3",null,null,null,"Entnahme 4"]
["Nr.","Datum (TT.MM.JJ)","Beginn","Ende","Gesamt","Art","Rev.","cm",null,"Art","Rev.","cm",null,"Art","Rev.","cm",null,"Art","Rev.","cm",null,"Art","Beschreibung"]
[1,null,null,null,{"$f":"IF(C5<>\"\",D5-C5,\"\")","v":""},null,null,null,null,null,null,null,null,null,null,null,null,null,null,null,null,"KE","keine Entnahme"]
[{"$f":"A5+1","v":2},null,null,null,"",null,null,null,null,null,null,null,null,null,null,null,null,null,null,null,null,"KF","kein Fang"]
[3,null,null,null,"",null,null,null,null,null,null,null,null,null,null,null,null,null,null,null,null,"BF","Bachforelle"]
[4,null,null,null,"",null,null,null,null,null,null,null,null,null,null,null,null,null,null,null,null,"RB","Regenbogenforelle"]
[5,null,null,null,"",null,null,null,null,null,null,null,null,null,null,null,null,null,null,null,null,"SO","sonstige Fischarten"]
[6,null,null,null,""]
[7,null,null,null,""]
[8,null,null,null,""]
[9,null,null,null,""]
[10,null,null,null,""]
[11,null,null,null,{"$f":"IF(C15<>\"\",D15-C15,\"\")","v":""}]
[12,null,null,null,""]
[13,null,null,null,""]
[14,null,null,null,""]
[15,null,null,null,""]
[16,null,null,null,""]
[17,null,null,null,""]
[18,null,null,null,""]
[19,null,null,null,""]
[20,null,null,null,""]
[21,null,null,null,""]
[22,null,null,null,""]
[23,null,null,null,""]
[24,null,null,null,""]
[25,null,null,null,""]
[26,null,null,null,""]
[27,null,null,null,""]
[28,null,null,null,""]
[29,null,null,null,""]
[30,null,null,null,""]
[31,null,null,null,""]
[32,null,null,null,""]
[33,null,null,null,""]
[34,null,null,null,""]
[35,null,null,null,""]
[]
["Auswertung",null,null,null,null,{"$f":"A1","v":"Fangstatistik Bolgenach 2030"}]
[null,null,null,null,"Zeit am Wasser",null,null,null,"Kosten"]
["Fischgänge:",null,null,null,{"$f":"SUM(E5:E39)","v":0},{"$f":"COUNT(B5:B39)","v":0},null,{"$f":"IF(F43<>0,200/F43,\"\")","v":""},"pro Fischgang",null,null,null,"Art","Beschreibung"]
["entn. Fische:",null,null,null,null,{"$f":"COUNT(H5:H39,L5:L39,P5:P39,T5:T39)","v":0},null,"Ø cm",{"$f":"IF(F44<>0,SUM(H5:H39,L5:L39,P5:P39,T5:T39)/F44,\"\")","v":""},null,null,null,"KE","keine Entnahme"]
["Anz. BF:",null,null,null,null,{"$f":"COUNTIF(F5:F39,\"BF\")+COUNTIF(J5:J39,\"BF\")+COUNTIF(N5:N39,\"BF\")+COUNTIF(R5:R39,\"BF\")","v":0},null,"Ø cm",{"$f":"IF(F45<>0,(SUMIF(F5:F39,\"BF\",H5:H39)+SUMIF(J5:J39,\"BF\",L5:L39)+SUMIF(N5:N39,\"BF\",P5:P39)+SUMIF(R5:R39,\"BF\",T5:T39))/F45,\"\")","v":""},null,null,null,"KF","kein Fang"]
["Anz. RB:",null,null,null,null,{"$f":"COUNTIF(F5:F39,\"RB\")+COUNTIF(J5:J39,\"RB\")+COUNTIF(N5:N39,\"RB\")+COUNTIF(R5:R39,\"RB\")","v":0},null,"Ø cm",{"$f":"IF(F46<>0,(SUMIF(F5:F39,\"RB\",H5:H39)+SUMIF(J5:J39,\"RB\",L5:L39)+SUMIF(N5:N39,\"RB\",P5:P39)+SUMIF(R5:R39,\"RB\",T5:T39))/F46,\"\")","v":""},{"$f":"IF((SUMIF(F5:F39,\"RB\",H5:H39)+SUMIF(J5:J39,\"RB\",L5:L39)+SUMIF(N5:N39,\"RB\",P5:P39)+SUMIF(R5:R39,\"RB\",T5:T39))=0,\"\",(SUMIF(F5:F39,\"RB\",H5:H39)+SUMIF(J5:J39,\"RB\",L5:L39)+SUMIF(N5:N39,\"RB\",P5:P39)+SUMIF(R5:R39,\"RB\",T5:T39))/F46)","v":""},null,null,"BF","Bachforelle"]
["Anz. SO:",null,null,null,null,{"$f":"COUNTIF(F5:F39,\"SO\")+COUNTIF(J5:J39,\"SO\")+COUNTIF(N5:N39,\"SO\")+COUNTIF(R5:R39,\"SO\")","v":0},null,"Ø cm",{"$f":"IF(F47<>0,(SUMIF(F5:F39,\"SO\",H5:H39)+SUMIF(J5:J39,\"SO\",L5:L39)+SUMIF(N5:N39,\"SO\",P5:P39)+SUMIF(R5:R39,\"SO\",T5:T39))/F47,\"\")","v":""},{"$f":"IF((SUMIF(F6:F40,\"RB\",H6:H40)+SUMIF(J6:J40,\"RB\",L6:L40)+SUMIF(N6:N40,\"RB\",P6:P40)+SUMIF(R6:R40,\"RB\",T6:T40))=0,\"\",(SUMIF(F6:F40,\"RB\",H6:H40)+SUMIF(J6:J40,\"RB\",L6:L40)+SUMIF(N6:N40,\"RB\",P6:P40)+SUMIF(R6:R40,\"RB\",T6:T40))/F47)","v":""},null,null,"RB","Regenbogenforelle"]
["größter Fisch:",null,null,null,null,{"$f":"MAX(H5:H39,L5:L39,P4:P39,T5:T39)","v":0},null,null,null,null,null,null,"SO","sonstige Fischarten"]